BEGIN:VCALENDAR
VERSION:2.0
PRODID:icalendar-ruby
CALSCALE:GREGORIAN
METHOD:PUBLISH
X-WR-CALNAME:Kulturkalender der Universitäts- und Hansestadt Greifswald
BEGIN:VEVENT
DTSTAMP:20260422T220144Z
UID:61a1d19c-179c-4d63-85a7-f172f78d4c68
DTSTART;VALUE=DATE:20260508
DTEND;VALUE=DATE:20260801
LOCATION:_Anderer Ort
SUMMARY:„Ob die Möwen manchmal an mich denken?“
END:VEVENT
END:VCALENDAR
