BEGIN:VCALENDAR
VERSION:2.0
PRODID:icalendar-ruby
CALSCALE:GREGORIAN
METHOD:PUBLISH
X-WR-CALNAME:Kulturkalender der Universitäts- und Hansestadt Greifswald
BEGIN:VEVENT
DTSTAMP:20260422T154616Z
UID:66a945a1-775d-4e65-b7f4-f179ee8a7de9
DTSTART:20260626T193000
DESCRIPTION:http://kulturkalender.greifswald.de/events/59241?start_on=2026-
 06-26
LOCATION:Stadthalle / Kaisersaal
SUMMARY:The Olympians
END:VEVENT
BEGIN:VEVENT
DTSTAMP:20260422T154616Z
UID:2ada20dd-a6b3-463b-a117-d3c51ea767a5
DTSTART:20260627T193000
DESCRIPTION:http://kulturkalender.greifswald.de/events/59241?start_on=2026-
 06-27
LOCATION:Stadthalle / Kaisersaal
SUMMARY:The Olympians
END:VEVENT
BEGIN:VEVENT
DTSTAMP:20260422T154616Z
UID:87ff3503-005a-44a8-9590-6f667e40a7a2
DTSTART:20260629T193000
DESCRIPTION:http://kulturkalender.greifswald.de/events/59241?start_on=2026-
 06-29
LOCATION:Stadthalle / Kaisersaal
SUMMARY:The Olympians
END:VEVENT
BEGIN:VEVENT
DTSTAMP:20260422T154616Z
UID:72c9904c-db50-4931-85f0-401838a86668
DTSTART:20260701T193000
DESCRIPTION:http://kulturkalender.greifswald.de/events/59241?start_on=2026-
 07-01
LOCATION:Stadthalle / Kaisersaal
SUMMARY:The Olympians
END:VEVENT
END:VCALENDAR
