BEGIN:VCALENDAR
VERSION:2.0
PRODID:icalendar-ruby
CALSCALE:GREGORIAN
METHOD:PUBLISH
X-WR-CALNAME:Kulturkalender der Universitäts- und Hansestadt Greifswald
BEGIN:VEVENT
DTSTAMP:20260422T171416Z
UID:51470e00-3b76-4e46-bfa6-46ffd86baaa7
DTSTART:20260430T210000
DESCRIPTION:http://kulturkalender.greifswald.de/events/59236?start_on=2026-
 04-30
LOCATION:Museumswerft
SUMMARY:Dockparty
END:VEVENT
END:VCALENDAR
