BEGIN:VCALENDAR
VERSION:2.0
PRODID:icalendar-ruby
CALSCALE:GREGORIAN
METHOD:PUBLISH
X-WR-CALNAME:Kulturkalender der Universitäts- und Hansestadt Greifswald
BEGIN:VEVENT
DTSTAMP:20260420T162036Z
UID:18eb9d6c-f884-49e9-8141-8506b8bfdafe
DTSTART:20260524T100000
DESCRIPTION:http://kulturkalender.greifswald.de/events/59224?start_on=2026-
 05-24
LOCATION:Lubmin
SUMMARY:Lubminer Stöberspaß – Der große Flohmarkt am Seebadzentrum!
END:VEVENT
END:VCALENDAR
