BEGIN:VCALENDAR
VERSION:2.0
PRODID:icalendar-ruby
CALSCALE:GREGORIAN
METHOD:PUBLISH
X-WR-CALNAME:Kulturkalender der Universitäts- und Hansestadt Greifswald
BEGIN:VEVENT
DTSTAMP:20260420T162041Z
UID:1702a5d0-ef93-4766-8aed-116f88026d5c
DTSTART:20260602T190000
DESCRIPTION:http://kulturkalender.greifswald.de/events/59223?start_on=2026-
 06-02
LOCATION:Lubmin
SUMMARY:Hinfallen ist keine Schande\, nur Liegenbleiben“: Muriel Baumeist
 er live im Seebadzentrum
END:VEVENT
END:VCALENDAR
