BEGIN:VCALENDAR
VERSION:2.0
PRODID:icalendar-ruby
CALSCALE:GREGORIAN
METHOD:PUBLISH
X-WR-CALNAME:Kulturkalender der Universitäts- und Hansestadt Greifswald
BEGIN:VEVENT
DTSTAMP:20260420T162036Z
UID:d96bb82a-16b9-4540-ba61-efe92fa93d27
DTSTART:20260501T160000
DESCRIPTION:http://kulturkalender.greifswald.de/events/59222?start_on=2026-
 05-01
LOCATION:Lubmin
SUMMARY:Saisoneröffnung mit buntem Programm für die ganze Familie
END:VEVENT
END:VCALENDAR
