BEGIN:VCALENDAR
VERSION:2.0
PRODID:icalendar-ruby
CALSCALE:GREGORIAN
METHOD:PUBLISH
X-WR-CALNAME:Kulturkalender der Universitäts- und Hansestadt Greifswald
BEGIN:VEVENT
DTSTAMP:20260424T020059Z
UID:de07c9aa-c1d5-4cba-93a1-d7cd5bf984dd
DTSTART:20260612T170000
DESCRIPTION:http://kulturkalender.greifswald.de/events/59203?start_on=2026-
 06-12
LOCATION:Pommersches Landesmuseum
SUMMARY:Langer Abend der Galerien
END:VEVENT
END:VCALENDAR
