BEGIN:VCALENDAR
VERSION:2.0
PRODID:icalendar-ruby
CALSCALE:GREGORIAN
METHOD:PUBLISH
X-WR-CALNAME:Kulturkalender der Universitäts- und Hansestadt Greifswald
BEGIN:VEVENT
DTSTAMP:20260423T082416Z
UID:f90e4f92-3865-4eb6-b116-a19d73ce8ac1
DTSTART:20260508T190000
DESCRIPTION:http://kulturkalender.greifswald.de/events/59198?start_on=2026-
 05-08
LOCATION:Sternwarte
SUMMARY:Kennenlernabend in der Greifswalder Sternwarte
END:VEVENT
END:VCALENDAR
