BEGIN:VCALENDAR
VERSION:2.0
PRODID:icalendar-ruby
CALSCALE:GREGORIAN
METHOD:PUBLISH
X-WR-CALNAME:Kulturkalender der Universitäts- und Hansestadt Greifswald
BEGIN:VEVENT
DTSTAMP:20260422T062305Z
UID:d563fe73-bd8c-4feb-8bd0-7bde9ad6635a
DTSTART:20260529T150000
DESCRIPTION:http://kulturkalender.greifswald.de/events/59171?start_on=2026-
 05-29
LOCATION:Caspar-David-Friedrich-Zentrum
SUMMARY:Die Nachbarschaft der Familie Friedrich in Greifswald – Führung 
 mit „Margarethe Friedrich“ durch die Altstadt
END:VEVENT
END:VCALENDAR
