BEGIN:VCALENDAR
VERSION:2.0
PRODID:icalendar-ruby
CALSCALE:GREGORIAN
METHOD:PUBLISH
X-WR-CALNAME:Kulturkalender der Universitäts- und Hansestadt Greifswald
BEGIN:VEVENT
DTSTAMP:20260422T061757Z
UID:1ebfb224-4ed5-428c-8be3-866f17f8bd62
DTSTART:20260517T140000
DESCRIPTION:http://kulturkalender.greifswald.de/events/59170?start_on=2026-
 05-17
LOCATION:Caspar-David-Friedrich-Zentrum
SUMMARY:Internationaler Museumstag: Ganztägig freier Eintritt ins CDF-Zent
 rum & Seifenworkshop um 14 Uhr
END:VEVENT
END:VCALENDAR
