BEGIN:VCALENDAR
VERSION:2.0
PRODID:icalendar-ruby
CALSCALE:GREGORIAN
METHOD:PUBLISH
X-WR-CALNAME:Kulturkalender der Universitäts- und Hansestadt Greifswald
BEGIN:VEVENT
DTSTAMP:20260424T061509Z
UID:f7e815d6-51da-4d39-8ba4-7de00b32782f
DTSTART:20260519T180000
DESCRIPTION:http://kulturkalender.greifswald.de/events/59159?start_on=2026-
 05-19
LOCATION:Kirche Wieck
SUMMARY:Frühlingskonzert
END:VEVENT
END:VCALENDAR
