BEGIN:VCALENDAR
VERSION:2.0
PRODID:icalendar-ruby
CALSCALE:GREGORIAN
METHOD:PUBLISH
X-WR-CALNAME:Kulturkalender der Universitäts- und Hansestadt Greifswald
BEGIN:VEVENT
DTSTAMP:20260421T121140Z
UID:4fe6bcfb-3f9a-4584-93dc-e1d95244623e
DTSTART:20260411T110000
DESCRIPTION:http://kulturkalender.greifswald.de/events/59156?start_on=2026-
 04-11
LOCATION:Stralsund
SUMMARY:Öffentliche Führung im MEERESMUSEUM
END:VEVENT
BEGIN:VEVENT
DTSTAMP:20260421T121140Z
UID:1cf0f584-2e43-4a5e-9e5d-f8586540e804
DTSTART:20260412T110000
DESCRIPTION:http://kulturkalender.greifswald.de/events/59156?start_on=2026-
 04-12
LOCATION:Stralsund
SUMMARY:Öffentliche Führung im MEERESMUSEUM
END:VEVENT
BEGIN:VEVENT
DTSTAMP:20260421T121140Z
UID:94acff00-9313-4c0d-8e27-8926a248b005
DTSTART:20260418T110000
DESCRIPTION:http://kulturkalender.greifswald.de/events/59156?start_on=2026-
 04-18
LOCATION:Stralsund
SUMMARY:Öffentliche Führung im MEERESMUSEUM
END:VEVENT
BEGIN:VEVENT
DTSTAMP:20260421T121140Z
UID:2fbae48f-9198-4519-9e2f-82ea60b7b1a6
DTSTART:20260419T110000
DESCRIPTION:http://kulturkalender.greifswald.de/events/59156?start_on=2026-
 04-19
LOCATION:Stralsund
SUMMARY:Öffentliche Führung im MEERESMUSEUM
END:VEVENT
BEGIN:VEVENT
DTSTAMP:20260421T121140Z
UID:5314fa80-2358-4a37-840f-44e6afd32e97
DTSTART:20260425T110000
DESCRIPTION:http://kulturkalender.greifswald.de/events/59156?start_on=2026-
 04-25
LOCATION:Stralsund
SUMMARY:Öffentliche Führung im MEERESMUSEUM
END:VEVENT
BEGIN:VEVENT
DTSTAMP:20260421T121140Z
UID:51d933cd-5c68-4971-b788-f46b4c7925cb
DTSTART:20260426T110000
DESCRIPTION:http://kulturkalender.greifswald.de/events/59156?start_on=2026-
 04-26
LOCATION:Stralsund
SUMMARY:Öffentliche Führung im MEERESMUSEUM
END:VEVENT
BEGIN:VEVENT
DTSTAMP:20260421T121140Z
UID:78887905-b40e-4893-aa53-79b7a795fb63
DTSTART:20260502T110000
DESCRIPTION:http://kulturkalender.greifswald.de/events/59156?start_on=2026-
 05-02
LOCATION:Stralsund
SUMMARY:Öffentliche Führung im MEERESMUSEUM
END:VEVENT
BEGIN:VEVENT
DTSTAMP:20260421T121140Z
UID:eaf2f758-9621-403e-8fb5-05ba4888b2d9
DTSTART:20260503T110000
DESCRIPTION:http://kulturkalender.greifswald.de/events/59156?start_on=2026-
 05-03
LOCATION:Stralsund
SUMMARY:Öffentliche Führung im MEERESMUSEUM
END:VEVENT
BEGIN:VEVENT
DTSTAMP:20260421T121140Z
UID:04d231d3-9db6-4fbd-a86d-1311456ccaea
DTSTART:20260509T110000
DESCRIPTION:http://kulturkalender.greifswald.de/events/59156?start_on=2026-
 05-09
LOCATION:Stralsund
SUMMARY:Öffentliche Führung im MEERESMUSEUM
END:VEVENT
BEGIN:VEVENT
DTSTAMP:20260421T121140Z
UID:8e034ea5-0883-4744-b116-93776c979ff5
DTSTART:20260510T110000
DESCRIPTION:http://kulturkalender.greifswald.de/events/59156?start_on=2026-
 05-10
LOCATION:Stralsund
SUMMARY:Öffentliche Führung im MEERESMUSEUM
END:VEVENT
BEGIN:VEVENT
DTSTAMP:20260421T121140Z
UID:025e508c-55f0-4e77-b620-d458d6d71a49
DTSTART:20260516T110000
DESCRIPTION:http://kulturkalender.greifswald.de/events/59156?start_on=2026-
 05-16
LOCATION:Stralsund
SUMMARY:Öffentliche Führung im MEERESMUSEUM
END:VEVENT
BEGIN:VEVENT
DTSTAMP:20260421T121140Z
UID:e24f6f84-79d9-45ad-ac5e-ba3c1a8f3923
DTSTART:20260517T110000
DESCRIPTION:http://kulturkalender.greifswald.de/events/59156?start_on=2026-
 05-17
LOCATION:Stralsund
SUMMARY:Öffentliche Führung im MEERESMUSEUM
END:VEVENT
BEGIN:VEVENT
DTSTAMP:20260421T121140Z
UID:7f5fba36-f6a7-48c5-8f49-b42e6c4d949a
DTSTART:20260523T110000
DESCRIPTION:http://kulturkalender.greifswald.de/events/59156?start_on=2026-
 05-23
LOCATION:Stralsund
SUMMARY:Öffentliche Führung im MEERESMUSEUM
END:VEVENT
BEGIN:VEVENT
DTSTAMP:20260421T121140Z
UID:10155b6e-8db4-4110-ac51-ae6cd6651c76
DTSTART:20260524T110000
DESCRIPTION:http://kulturkalender.greifswald.de/events/59156?start_on=2026-
 05-24
LOCATION:Stralsund
SUMMARY:Öffentliche Führung im MEERESMUSEUM
END:VEVENT
BEGIN:VEVENT
DTSTAMP:20260421T121140Z
UID:7549c9c1-3a17-49a0-a3a7-d065b9c64716
DTSTART:20260530T110000
DESCRIPTION:http://kulturkalender.greifswald.de/events/59156?start_on=2026-
 05-30
LOCATION:Stralsund
SUMMARY:Öffentliche Führung im MEERESMUSEUM
END:VEVENT
BEGIN:VEVENT
DTSTAMP:20260421T121140Z
UID:6ae8a505-050a-4ef5-91b3-8678f9818a4e
DTSTART:20260531T110000
DESCRIPTION:http://kulturkalender.greifswald.de/events/59156?start_on=2026-
 05-31
LOCATION:Stralsund
SUMMARY:Öffentliche Führung im MEERESMUSEUM
END:VEVENT
BEGIN:VEVENT
DTSTAMP:20260421T121140Z
UID:ed370797-aaa2-4c7f-86ff-0355a267f564
DTSTART:20260606T110000
DESCRIPTION:http://kulturkalender.greifswald.de/events/59156?start_on=2026-
 06-06
LOCATION:Stralsund
SUMMARY:Öffentliche Führung im MEERESMUSEUM
END:VEVENT
BEGIN:VEVENT
DTSTAMP:20260421T121140Z
UID:b5fb5efa-f0c7-4819-9079-bb699b3a3080
DTSTART:20260607T110000
DESCRIPTION:http://kulturkalender.greifswald.de/events/59156?start_on=2026-
 06-07
LOCATION:Stralsund
SUMMARY:Öffentliche Führung im MEERESMUSEUM
END:VEVENT
BEGIN:VEVENT
DTSTAMP:20260421T121140Z
UID:03c7a5cc-f38b-4048-9f35-9003e8188e2d
DTSTART:20260613T110000
DESCRIPTION:http://kulturkalender.greifswald.de/events/59156?start_on=2026-
 06-13
LOCATION:Stralsund
SUMMARY:Öffentliche Führung im MEERESMUSEUM
END:VEVENT
BEGIN:VEVENT
DTSTAMP:20260421T121140Z
UID:af478203-8979-4305-80f5-2254a0b2cebf
DTSTART:20260614T110000
DESCRIPTION:http://kulturkalender.greifswald.de/events/59156?start_on=2026-
 06-14
LOCATION:Stralsund
SUMMARY:Öffentliche Führung im MEERESMUSEUM
END:VEVENT
BEGIN:VEVENT
DTSTAMP:20260421T121140Z
UID:b1ee1624-4b44-4e09-98d0-780c840cc359
DTSTART:20260620T110000
DESCRIPTION:http://kulturkalender.greifswald.de/events/59156?start_on=2026-
 06-20
LOCATION:Stralsund
SUMMARY:Öffentliche Führung im MEERESMUSEUM
END:VEVENT
BEGIN:VEVENT
DTSTAMP:20260421T121140Z
UID:8944ec7a-ba51-426a-bacf-010964f48f9c
DTSTART:20260621T110000
DESCRIPTION:http://kulturkalender.greifswald.de/events/59156?start_on=2026-
 06-21
LOCATION:Stralsund
SUMMARY:Öffentliche Führung im MEERESMUSEUM
END:VEVENT
BEGIN:VEVENT
DTSTAMP:20260421T121140Z
UID:707f6ac6-1fca-45e4-bcfd-63f890bb21dc
DTSTART:20260627T110000
DESCRIPTION:http://kulturkalender.greifswald.de/events/59156?start_on=2026-
 06-27
LOCATION:Stralsund
SUMMARY:Öffentliche Führung im MEERESMUSEUM
END:VEVENT
BEGIN:VEVENT
DTSTAMP:20260421T121140Z
UID:5fb78661-3f2d-4d32-a8fa-18e872594303
DTSTART:20260628T110000
DESCRIPTION:http://kulturkalender.greifswald.de/events/59156?start_on=2026-
 06-28
LOCATION:Stralsund
SUMMARY:Öffentliche Führung im MEERESMUSEUM
END:VEVENT
BEGIN:VEVENT
DTSTAMP:20260421T121140Z
UID:47d2d047-656a-4e78-a31a-63fef8cf3fba
DTSTART:20260704T110000
DESCRIPTION:http://kulturkalender.greifswald.de/events/59156?start_on=2026-
 07-04
LOCATION:Stralsund
SUMMARY:Öffentliche Führung im MEERESMUSEUM
END:VEVENT
BEGIN:VEVENT
DTSTAMP:20260421T121140Z
UID:c6994047-d1ae-4607-af57-d78a67b17cab
DTSTART:20260705T110000
DESCRIPTION:http://kulturkalender.greifswald.de/events/59156?start_on=2026-
 07-05
LOCATION:Stralsund
SUMMARY:Öffentliche Führung im MEERESMUSEUM
END:VEVENT
BEGIN:VEVENT
DTSTAMP:20260421T121140Z
UID:2dd3a4ba-d1f7-4399-bfce-a4663eb46462
DTSTART:20260711T110000
DESCRIPTION:http://kulturkalender.greifswald.de/events/59156?start_on=2026-
 07-11
LOCATION:Stralsund
SUMMARY:Öffentliche Führung im MEERESMUSEUM
END:VEVENT
BEGIN:VEVENT
DTSTAMP:20260421T121140Z
UID:24165d79-6c3a-4f2b-978e-860a34871f7d
DTSTART:20260712T110000
DESCRIPTION:http://kulturkalender.greifswald.de/events/59156?start_on=2026-
 07-12
LOCATION:Stralsund
SUMMARY:Öffentliche Führung im MEERESMUSEUM
END:VEVENT
BEGIN:VEVENT
DTSTAMP:20260421T121140Z
UID:e9fb0aad-1419-4d8e-bd5a-3cbf50ef301c
DTSTART:20260718T110000
DESCRIPTION:http://kulturkalender.greifswald.de/events/59156?start_on=2026-
 07-18
LOCATION:Stralsund
SUMMARY:Öffentliche Führung im MEERESMUSEUM
END:VEVENT
BEGIN:VEVENT
DTSTAMP:20260421T121140Z
UID:3adcdf16-739c-4a68-8df0-e7e1504179bb
DTSTART:20260719T110000
DESCRIPTION:http://kulturkalender.greifswald.de/events/59156?start_on=2026-
 07-19
LOCATION:Stralsund
SUMMARY:Öffentliche Führung im MEERESMUSEUM
END:VEVENT
BEGIN:VEVENT
DTSTAMP:20260421T121140Z
UID:1ffaae24-b022-4c1b-a1d8-62e4d502fd1f
DTSTART:20260725T110000
DESCRIPTION:http://kulturkalender.greifswald.de/events/59156?start_on=2026-
 07-25
LOCATION:Stralsund
SUMMARY:Öffentliche Führung im MEERESMUSEUM
END:VEVENT
BEGIN:VEVENT
DTSTAMP:20260421T121140Z
UID:3e021e72-2928-453f-b888-eccb27dee9b9
DTSTART:20260726T110000
DESCRIPTION:http://kulturkalender.greifswald.de/events/59156?start_on=2026-
 07-26
LOCATION:Stralsund
SUMMARY:Öffentliche Führung im MEERESMUSEUM
END:VEVENT
END:VCALENDAR
