BEGIN:VCALENDAR
VERSION:2.0
PRODID:icalendar-ruby
CALSCALE:GREGORIAN
METHOD:PUBLISH
X-WR-CALNAME:Kulturkalender der Universitäts- und Hansestadt Greifswald
BEGIN:VEVENT
DTSTAMP:20260421T121328Z
UID:3b41ed06-3708-44d7-9623-03cbc088e03d
DTSTART:20260411T110000
DESCRIPTION:http://kulturkalender.greifswald.de/events/59155?start_on=2026-
 04-11
LOCATION:Stralsund
SUMMARY:Öffentliche Führung im OZEANEUM
END:VEVENT
BEGIN:VEVENT
DTSTAMP:20260421T121328Z
UID:b765e58e-94ec-4df1-a92f-3f4c1deaf353
DTSTART:20260412T110000
DESCRIPTION:http://kulturkalender.greifswald.de/events/59155?start_on=2026-
 04-12
LOCATION:Stralsund
SUMMARY:Öffentliche Führung im OZEANEUM
END:VEVENT
BEGIN:VEVENT
DTSTAMP:20260421T121328Z
UID:4410e937-bf43-4b94-988a-77b36b3824ed
DTSTART:20260418T110000
DESCRIPTION:http://kulturkalender.greifswald.de/events/59155?start_on=2026-
 04-18
LOCATION:Stralsund
SUMMARY:Öffentliche Führung im OZEANEUM
END:VEVENT
BEGIN:VEVENT
DTSTAMP:20260421T121328Z
UID:935c5418-3c85-4552-ab9e-f5571631f15c
DTSTART:20260419T110000
DESCRIPTION:http://kulturkalender.greifswald.de/events/59155?start_on=2026-
 04-19
LOCATION:Stralsund
SUMMARY:Öffentliche Führung im OZEANEUM
END:VEVENT
BEGIN:VEVENT
DTSTAMP:20260421T121328Z
UID:34bff9dc-b58f-490a-8310-d48b5709680c
DTSTART:20260425T110000
DESCRIPTION:http://kulturkalender.greifswald.de/events/59155?start_on=2026-
 04-25
LOCATION:Stralsund
SUMMARY:Öffentliche Führung im OZEANEUM
END:VEVENT
BEGIN:VEVENT
DTSTAMP:20260421T121328Z
UID:ac37c871-0614-41c7-93e2-df38a9576d32
DTSTART:20260426T110000
DESCRIPTION:http://kulturkalender.greifswald.de/events/59155?start_on=2026-
 04-26
LOCATION:Stralsund
SUMMARY:Öffentliche Führung im OZEANEUM
END:VEVENT
BEGIN:VEVENT
DTSTAMP:20260421T121328Z
UID:5a3becff-0f05-4f3b-8ca3-d8d2c44028f2
DTSTART:20260502T110000
DESCRIPTION:http://kulturkalender.greifswald.de/events/59155?start_on=2026-
 05-02
LOCATION:Stralsund
SUMMARY:Öffentliche Führung im OZEANEUM
END:VEVENT
BEGIN:VEVENT
DTSTAMP:20260421T121328Z
UID:3ecc1dfb-0e5d-4a41-b77e-71bd96168480
DTSTART:20260503T110000
DESCRIPTION:http://kulturkalender.greifswald.de/events/59155?start_on=2026-
 05-03
LOCATION:Stralsund
SUMMARY:Öffentliche Führung im OZEANEUM
END:VEVENT
BEGIN:VEVENT
DTSTAMP:20260421T121328Z
UID:d790b9fd-fd90-4867-84ce-2232ffac6a5d
DTSTART:20260509T110000
DESCRIPTION:http://kulturkalender.greifswald.de/events/59155?start_on=2026-
 05-09
LOCATION:Stralsund
SUMMARY:Öffentliche Führung im OZEANEUM
END:VEVENT
BEGIN:VEVENT
DTSTAMP:20260421T121328Z
UID:8b3ca2e4-c1f7-429e-aaf7-a7e423cb151e
DTSTART:20260510T110000
DESCRIPTION:http://kulturkalender.greifswald.de/events/59155?start_on=2026-
 05-10
LOCATION:Stralsund
SUMMARY:Öffentliche Führung im OZEANEUM
END:VEVENT
BEGIN:VEVENT
DTSTAMP:20260421T121328Z
UID:49297541-d3ec-49d7-83c2-3fa0482256aa
DTSTART:20260516T110000
DESCRIPTION:http://kulturkalender.greifswald.de/events/59155?start_on=2026-
 05-16
LOCATION:Stralsund
SUMMARY:Öffentliche Führung im OZEANEUM
END:VEVENT
BEGIN:VEVENT
DTSTAMP:20260421T121328Z
UID:866e3501-c144-45e3-8dd2-93e98e098883
DTSTART:20260517T110000
DESCRIPTION:http://kulturkalender.greifswald.de/events/59155?start_on=2026-
 05-17
LOCATION:Stralsund
SUMMARY:Öffentliche Führung im OZEANEUM
END:VEVENT
BEGIN:VEVENT
DTSTAMP:20260421T121328Z
UID:5ca02e1d-941e-4285-9071-592575db922e
DTSTART:20260523T110000
DESCRIPTION:http://kulturkalender.greifswald.de/events/59155?start_on=2026-
 05-23
LOCATION:Stralsund
SUMMARY:Öffentliche Führung im OZEANEUM
END:VEVENT
BEGIN:VEVENT
DTSTAMP:20260421T121328Z
UID:bc676fad-3cce-4165-9b31-62a08934b065
DTSTART:20260524T110000
DESCRIPTION:http://kulturkalender.greifswald.de/events/59155?start_on=2026-
 05-24
LOCATION:Stralsund
SUMMARY:Öffentliche Führung im OZEANEUM
END:VEVENT
BEGIN:VEVENT
DTSTAMP:20260421T121328Z
UID:9e0a44b9-8675-4e00-b0b5-82699d0695fe
DTSTART:20260530T110000
DESCRIPTION:http://kulturkalender.greifswald.de/events/59155?start_on=2026-
 05-30
LOCATION:Stralsund
SUMMARY:Öffentliche Führung im OZEANEUM
END:VEVENT
BEGIN:VEVENT
DTSTAMP:20260421T121328Z
UID:e29c176e-0bfb-40e3-a927-128cd9d7cd7a
DTSTART:20260531T110000
DESCRIPTION:http://kulturkalender.greifswald.de/events/59155?start_on=2026-
 05-31
LOCATION:Stralsund
SUMMARY:Öffentliche Führung im OZEANEUM
END:VEVENT
BEGIN:VEVENT
DTSTAMP:20260421T121328Z
UID:1c60f542-3aa0-43be-843e-22852e9b94a3
DTSTART:20260606T110000
DESCRIPTION:http://kulturkalender.greifswald.de/events/59155?start_on=2026-
 06-06
LOCATION:Stralsund
SUMMARY:Öffentliche Führung im OZEANEUM
END:VEVENT
BEGIN:VEVENT
DTSTAMP:20260421T121328Z
UID:8cfeb685-a428-4b37-a216-2e6ae7ae2b0c
DTSTART:20260607T110000
DESCRIPTION:http://kulturkalender.greifswald.de/events/59155?start_on=2026-
 06-07
LOCATION:Stralsund
SUMMARY:Öffentliche Führung im OZEANEUM
END:VEVENT
BEGIN:VEVENT
DTSTAMP:20260421T121328Z
UID:472c2f66-a9d3-4402-923a-9db46fbca128
DTSTART:20260613T110000
DESCRIPTION:http://kulturkalender.greifswald.de/events/59155?start_on=2026-
 06-13
LOCATION:Stralsund
SUMMARY:Öffentliche Führung im OZEANEUM
END:VEVENT
BEGIN:VEVENT
DTSTAMP:20260421T121328Z
UID:45f2e3a4-51da-4e74-a885-a22dd9ee575a
DTSTART:20260614T110000
DESCRIPTION:http://kulturkalender.greifswald.de/events/59155?start_on=2026-
 06-14
LOCATION:Stralsund
SUMMARY:Öffentliche Führung im OZEANEUM
END:VEVENT
BEGIN:VEVENT
DTSTAMP:20260421T121328Z
UID:dc16e13c-0a09-488b-9284-9cd0c76e835c
DTSTART:20260620T110000
DESCRIPTION:http://kulturkalender.greifswald.de/events/59155?start_on=2026-
 06-20
LOCATION:Stralsund
SUMMARY:Öffentliche Führung im OZEANEUM
END:VEVENT
BEGIN:VEVENT
DTSTAMP:20260421T121328Z
UID:50df0396-ec42-48b9-9248-d04b072f4747
DTSTART:20260621T110000
DESCRIPTION:http://kulturkalender.greifswald.de/events/59155?start_on=2026-
 06-21
LOCATION:Stralsund
SUMMARY:Öffentliche Führung im OZEANEUM
END:VEVENT
BEGIN:VEVENT
DTSTAMP:20260421T121328Z
UID:1ebd7930-a304-44f7-9727-9cb36ff8e9f3
DTSTART:20260627T110000
DESCRIPTION:http://kulturkalender.greifswald.de/events/59155?start_on=2026-
 06-27
LOCATION:Stralsund
SUMMARY:Öffentliche Führung im OZEANEUM
END:VEVENT
BEGIN:VEVENT
DTSTAMP:20260421T121328Z
UID:e8fd9236-717a-49a6-baeb-40bc3ef1be0d
DTSTART:20260628T110000
DESCRIPTION:http://kulturkalender.greifswald.de/events/59155?start_on=2026-
 06-28
LOCATION:Stralsund
SUMMARY:Öffentliche Führung im OZEANEUM
END:VEVENT
BEGIN:VEVENT
DTSTAMP:20260421T121328Z
UID:5baa78ae-b69d-4708-9119-96bfc5216bcd
DTSTART:20260704T110000
DESCRIPTION:http://kulturkalender.greifswald.de/events/59155?start_on=2026-
 07-04
LOCATION:Stralsund
SUMMARY:Öffentliche Führung im OZEANEUM
END:VEVENT
BEGIN:VEVENT
DTSTAMP:20260421T121328Z
UID:2db1a420-c247-464c-8329-cad5f5563dd8
DTSTART:20260705T110000
DESCRIPTION:http://kulturkalender.greifswald.de/events/59155?start_on=2026-
 07-05
LOCATION:Stralsund
SUMMARY:Öffentliche Führung im OZEANEUM
END:VEVENT
BEGIN:VEVENT
DTSTAMP:20260421T121328Z
UID:177627c9-2ff5-458f-aa95-1dcf32146d3d
DTSTART:20260711T110000
DESCRIPTION:http://kulturkalender.greifswald.de/events/59155?start_on=2026-
 07-11
LOCATION:Stralsund
SUMMARY:Öffentliche Führung im OZEANEUM
END:VEVENT
BEGIN:VEVENT
DTSTAMP:20260421T121328Z
UID:b8ab6eb8-acaf-4efe-aac8-f40ac2ed8b60
DTSTART:20260712T110000
DESCRIPTION:http://kulturkalender.greifswald.de/events/59155?start_on=2026-
 07-12
LOCATION:Stralsund
SUMMARY:Öffentliche Führung im OZEANEUM
END:VEVENT
BEGIN:VEVENT
DTSTAMP:20260421T121328Z
UID:922f78fb-8801-4f21-9b9f-56516f25e1b1
DTSTART:20260718T110000
DESCRIPTION:http://kulturkalender.greifswald.de/events/59155?start_on=2026-
 07-18
LOCATION:Stralsund
SUMMARY:Öffentliche Führung im OZEANEUM
END:VEVENT
BEGIN:VEVENT
DTSTAMP:20260421T121328Z
UID:8b207502-d687-4894-8b8c-52de685c0bd6
DTSTART:20260719T110000
DESCRIPTION:http://kulturkalender.greifswald.de/events/59155?start_on=2026-
 07-19
LOCATION:Stralsund
SUMMARY:Öffentliche Führung im OZEANEUM
END:VEVENT
BEGIN:VEVENT
DTSTAMP:20260421T121328Z
UID:2d2502c2-6c09-47c6-983b-15cbfbfda72c
DTSTART:20260725T110000
DESCRIPTION:http://kulturkalender.greifswald.de/events/59155?start_on=2026-
 07-25
LOCATION:Stralsund
SUMMARY:Öffentliche Führung im OZEANEUM
END:VEVENT
BEGIN:VEVENT
DTSTAMP:20260421T121328Z
UID:8087c7b8-20ff-44d0-8156-2e8e4bef2c20
DTSTART:20260726T110000
DESCRIPTION:http://kulturkalender.greifswald.de/events/59155?start_on=2026-
 07-26
LOCATION:Stralsund
SUMMARY:Öffentliche Führung im OZEANEUM
END:VEVENT
END:VCALENDAR
