BEGIN:VCALENDAR
VERSION:2.0
PRODID:icalendar-ruby
CALSCALE:GREGORIAN
METHOD:PUBLISH
X-WR-CALNAME:Kulturkalender der Universitäts- und Hansestadt Greifswald
BEGIN:VEVENT
DTSTAMP:20260420T124504Z
UID:e320054f-7a6a-40a1-b83f-083a4f0c7b7d
DTSTART:20260522T180000
DESCRIPTION:http://kulturkalender.greifswald.de/events/59117?start_on=2026-
 05-22
LOCATION:Mitt´n drin
SUMMARY:Karaoke
END:VEVENT
END:VCALENDAR
