BEGIN:VCALENDAR
VERSION:2.0
PRODID:icalendar-ruby
CALSCALE:GREGORIAN
METHOD:PUBLISH
X-WR-CALNAME:Kulturkalender der Universitäts- und Hansestadt Greifswald
BEGIN:VEVENT
DTSTAMP:20260420T124908Z
UID:2351577e-a718-45bd-ba4e-419ac483ac47
DTSTART:20260514T180000
DESCRIPTION:http://kulturkalender.greifswald.de/events/59116?start_on=2026-
 05-14
LOCATION:Mitt´n drin
SUMMARY:Herrentag Bier - Special
END:VEVENT
END:VCALENDAR
