BEGIN:VCALENDAR
VERSION:2.0
PRODID:icalendar-ruby
CALSCALE:GREGORIAN
METHOD:PUBLISH
X-WR-CALNAME:Kulturkalender der Universitäts- und Hansestadt Greifswald
BEGIN:VEVENT
DTSTAMP:20260420T124919Z
UID:7c8751a5-a558-43b0-8a30-0456210590e4
DTSTART:20260508T180000
DESCRIPTION:http://kulturkalender.greifswald.de/events/59115?start_on=2026-
 05-08
LOCATION:Mitt´n drin
SUMMARY:Karaoke
END:VEVENT
END:VCALENDAR
