BEGIN:VCALENDAR
VERSION:2.0
PRODID:icalendar-ruby
CALSCALE:GREGORIAN
METHOD:PUBLISH
X-WR-CALNAME:Kulturkalender der Universitäts- und Hansestadt Greifswald
BEGIN:VEVENT
DTSTAMP:20260420T124907Z
UID:30ac4451-a67a-412d-b0aa-2482b0b1bb0f
DTSTART:20260501T180000
DESCRIPTION:http://kulturkalender.greifswald.de/events/59114?start_on=2026-
 05-01
LOCATION:Mitt´n drin
SUMMARY:1.Mai Spezial
END:VEVENT
END:VCALENDAR
